BEGIN:VCALENDAR
VERSION:2.0
PRODID:-//Graceline Institute - ECPv6.15.20//NONSGML v1.0//EN
CALSCALE:GREGORIAN
METHOD:PUBLISH
X-WR-CALNAME:Graceline Institute
X-ORIGINAL-URL:https://gracelineinstitute.org
X-WR-CALDESC:Events for Graceline Institute
REFRESH-INTERVAL;VALUE=DURATION:PT1H
X-Robots-Tag:noindex
X-PUBLISHED-TTL:PT1H
BEGIN:VTIMEZONE
TZID:UTC
BEGIN:STANDARD
TZOFFSETFROM:+0000
TZOFFSETTO:+0000
TZNAME:UTC
DTSTART:20240101T000000
END:STANDARD
END:VTIMEZONE
BEGIN:VEVENT
DTSTART;TZID=UTC:20250305T100000
DTEND;TZID=UTC:20250305T110000
DTSTAMP:20260419T094826
CREATED:20250118T235907Z
LAST-MODIFIED:20250124T183611Z
UID:10000012-1741168800-1741172400@gracelineinstitute.org
SUMMARY:An EQ+BQ Full-System Reset CLEANSE
DESCRIPTION:Stabilize stress and mood management with our 21-day cleanse to shed story\, weight\, and history—and catch the physical body up to your emotional and spiritual awakening. This acts as an Emotional Intelligence (EQ) and body Intelligence (BQ) INTEGRATION STATION—so that we can drop ancient toxins in order to EMBODY new wisdom. \nThis is 21-days of targeted homeopathy\, detoxification\, coaching\, and group meditation (followed by 3 weeks of metabolic stabilization + microbiome reforestation (for a 6-week total commitment)).
URL:https://gracelineinstitute.org/event/full-system-reset-eq-cleanse/
CATEGORIES:Cleanses
ATTACH;FMTTYPE=image/jpeg:https://gracelineinstitute.org/wp-content/uploads/2025/01/74_CLEANSE-color-scaled.jpeg
END:VEVENT
END:VCALENDAR